BEGIN:VCALENDAR
VERSION:2.0
PRODID:icalendar-ruby
CALSCALE:GREGORIAN
METHOD:PUBLISH
BEGIN:VEVENT
DTSTAMP:20260420T021206Z
UID:9-1407341@progresschurch.com
DTSTART:20260920T140000Z
DTEND:20260920T160000Z
CLASS:PUBLIC
CREATED:20260419T191619
DESCRIPTION:Ministry for children ages 3-12 years during our Sunday service
 s (after praise and worship).
LAST-MODIFIED:20260419T191619
LOCATION:Progress Church
SUMMARY:Children's Church 
URL;VALUE=URI:https://www.progresschurch.ca/events/childrens-church/2026-09
 -20
END:VEVENT
END:VCALENDAR
