BEGIN:VCALENDAR
VERSION:2.0
PRODID:icalendar-ruby
CALSCALE:GREGORIAN
METHOD:PUBLISH
BEGIN:VEVENT
DTSTAMP:20260420T053804Z
UID:9-1408381@progresschurch.com
DTSTART:20261004T140000Z
DTEND:20261004T160000Z
CLASS:PUBLIC
CREATED:20260419T225508
DESCRIPTION:Ministry for children ages 3-12 years during our Sunday service
 s (after praise and worship).
LAST-MODIFIED:20260419T225508
LOCATION:Progress Church
SUMMARY:Children's Church 
URL;VALUE=URI:https://www.progresschurch.ca/events/childrens-church/2026-10
 -04
END:VEVENT
END:VCALENDAR
