BEGIN:VCALENDAR
VERSION:2.0
PRODID:icalendar-ruby
CALSCALE:GREGORIAN
METHOD:PUBLISH
BEGIN:VEVENT
DTSTAMP:20260420T072619Z
UID:9-1409421@progresschurch.com
DTSTART:20261011T140000Z
DTEND:20261011T160000Z
CLASS:PUBLIC
CREATED:20260420T023200
DESCRIPTION:Ministry for children ages 3-12 years during our Sunday service
 s (after praise and worship).
LAST-MODIFIED:20260420T023200
LOCATION:Progress Church
SUMMARY:Children's Church 
URL;VALUE=URI:https://www.progresschurch.ca/events/childrens-church/2026-10
 -11
END:VEVENT
END:VCALENDAR
