BEGIN:VCALENDAR
VERSION:2.0
PRODID:icalendar-ruby
CALSCALE:GREGORIAN
METHOD:PUBLISH
BEGIN:VEVENT
DTSTAMP:20260422T103511Z
UID:9-1421879@progresschurch.com
DTSTART:20261025T140000Z
DTEND:20261025T160000Z
CLASS:PUBLIC
CREATED:20260421T203802
DESCRIPTION:Ministry for children ages 3-12 years during our Sunday service
 s (after praise and worship).
LAST-MODIFIED:20260421T203802
LOCATION:Progress Church
SUMMARY:Children's Church 
URL;VALUE=URI:https://www.progresschurch.ca/events/childrens-church/2026-10
 -25
END:VEVENT
END:VCALENDAR
