BEGIN:VCALENDAR
VERSION:2.0
PRODID:icalendar-ruby
CALSCALE:GREGORIAN
METHOD:PUBLISH
BEGIN:VEVENT
DTSTAMP:20260422T161317Z
UID:9-1423956@progresschurch.com
DTSTART:20261101T150000Z
DTEND:20261101T170000Z
CLASS:PUBLIC
CREATED:20260422T103540
DESCRIPTION:Ministry for children ages 3-12 years during our Sunday service
 s (after praise and worship).
LAST-MODIFIED:20260422T103540
LOCATION:Progress Church
SUMMARY:Children's Church 
URL;VALUE=URI:https://www.progresschurch.ca/events/childrens-church/2026-11
 -01
END:VEVENT
END:VCALENDAR
